BEGIN:VCALENDAR
VERSION:2.0
PRODID:-//wp-events-plugin.com//7.0.5//EN
TZID:Europe/Berlin
X-WR-TIMEZONE:Europe/Berlin
BEGIN:VEVENT
UID:12@davidsick.de
DTSTART;TZID=Europe/Berlin:20240914T193000
DTEND;TZID=Europe/Berlin:20240914T213000
DTSTAMP:20230911T134555Z
URL:https://davidsick.de/konzerte/cafe-alte-schule-hamborn/
SUMMARY:Cafe alte Schule\, Hamborn
DESCRIPTION:
CATEGORIES:David Sick
LOCATION:Cafe alte Schule\, Schloss Hamborn 15\, Borchen \, Deutschland
GEO:51.66263;8.77263
X-APPLE-STRUCTURED-LOCATION;VALUE=URI;X-ADDRESS=Schloss Hamborn 15\, Borche
 n \, Deutschland;X-APPLE-RADIUS=100;X-TITLE=Cafe alte Schule:geo:51.66263,
 8.77263
END:VEVENT
BEGIN:VTIMEZONE
TZID:Europe/Berlin
X-LIC-LOCATION:Europe/Berlin
BEGIN:DAYLIGHT
DTSTART:20240331T030000
TZOFFSETFROM:+0100
TZOFFSETTO:+0200
TZNAME:CEST
END:DAYLIGHT
END:VTIMEZONE
END:VCALENDAR