BEGIN:VCALENDAR
VERSION:2.0
PRODID:-//wp-events-plugin.com//7.0.5//EN
TZID:Europe/Berlin
X-WR-TIMEZONE:Europe/Berlin
BEGIN:VEVENT
UID:10@davidsick.de
DTSTART;TZID=Europe/Berlin:20240601T180000
DTEND;TZID=Europe/Berlin:20240601T210000
DTSTAMP:20230911T135136Z
URL:https://davidsick.de/konzerte/galerie-sonja-wachter-zetel/
SUMMARY:Galerie Sonja Wachter\, Zetel
DESCRIPTION:
CATEGORIES:oneperson
LOCATION:Galerie Sonja Wachter\, Am Urwald 2\, Zetel\, Deutschland
GEO:53.391349;7.961203
X-APPLE-STRUCTURED-LOCATION;VALUE=URI;X-ADDRESS=Am Urwald 2\, Zetel\, Deuts
 chland;X-APPLE-RADIUS=100;X-TITLE=Galerie Sonja Wachter:geo:53.391349,7.96
 1203
END:VEVENT
BEGIN:VTIMEZONE
TZID:Europe/Berlin
X-LIC-LOCATION:Europe/Berlin
BEGIN:DAYLIGHT
DTSTART:20240331T030000
TZOFFSETFROM:+0100
TZOFFSETTO:+0200
TZNAME:CEST
END:DAYLIGHT
END:VTIMEZONE
END:VCALENDAR