BEGIN:VCALENDAR
VERSION:2.0
PRODID:-//wp-events-plugin.com//7.0.5//EN
TZID:Europe/Berlin
X-WR-TIMEZONE:Europe/Berlin
BEGIN:VEVENT
UID:47@davidsick.de
DTSTART;TZID=Europe/Berlin:20260703T180000
DTEND;TZID=Europe/Berlin:20260703T220000
DTSTAMP:20260421T174903Z
URL:https://davidsick.de/konzerte/galerie-sylvia-fenk-meissen/
SUMMARY:Galerie Sylvia Fenk\, Meißen
DESCRIPTION:
CATEGORIES:David Sick
END:VEVENT
BEGIN:VTIMEZONE
TZID:Europe/Berlin
X-LIC-LOCATION:Europe/Berlin
BEGIN:DAYLIGHT
DTSTART:20260329T030000
TZOFFSETFROM:+0100
TZOFFSETTO:+0200
TZNAME:CEST
END:DAYLIGHT
END:VTIMEZONE
END:VCALENDAR