BEGIN:VCALENDAR
VERSION:2.0
PRODID:-//wp-events-plugin.com//7.0.5//EN
TZID:Europe/Berlin
X-WR-TIMEZONE:Europe/Berlin
BEGIN:VEVENT
UID:8@davidsick.de
DTSTART;TZID=Europe/Berlin:20250517T193000
DTEND;TZID=Europe/Berlin:20250517T210000
DTSTAMP:20240205T092655Z
URL:https://davidsick.de/konzerte/grundtvighaus-sassnitz/
SUMMARY:Grundtvighaus\, Sassnitz
DESCRIPTION:
CATEGORIES:David Sick
LOCATION:Grundtvighaus\, Sassnitz\, Seestrasse 3\, Sassnitz\, Deutschland
GEO:54.514872;13.643363
X-APPLE-STRUCTURED-LOCATION;VALUE=URI;X-ADDRESS=Seestrasse 3\, Sassnitz\, D
 eutschland;X-APPLE-RADIUS=100;X-TITLE=Grundtvighaus\, Sassnitz:geo:54.5148
 72,13.643363
END:VEVENT
BEGIN:VTIMEZONE
TZID:Europe/Berlin
X-LIC-LOCATION:Europe/Berlin
BEGIN:DAYLIGHT
DTSTART:20250330T030000
TZOFFSETFROM:+0100
TZOFFSETTO:+0200
TZNAME:CEST
END:DAYLIGHT
END:VTIMEZONE
END:VCALENDAR