BEGIN:VCALENDAR
VERSION:2.0
PRODID:-//wp-events-plugin.com//7.0.5//EN
TZID:Europe/Berlin
X-WR-TIMEZONE:Europe/Berlin
BEGIN:VEVENT
UID:13@davidsick.de
DTSTART;TZID=Europe/Berlin:20240501T163000
DTEND;TZID=Europe/Berlin:20240501T183000
DTSTAMP:20240126T142901Z
URL:https://davidsick.de/konzerte/kirche-nattwerder-nattwerder/
SUMMARY:Kirche Nattwerder\, Nattwerder
DESCRIPTION:
CATEGORIES:David Sick
LOCATION:Dorfkirche Nattwerder\, Feldweg- Nattwerder \, Potsdam\, Brandenbu
 rg\, 14469\, Potsdam\, Deutschland
GEO:52.424493;12.940278
X-APPLE-STRUCTURED-LOCATION;VALUE=URI;X-ADDRESS=Feldweg- Nattwerder \, Pots
 dam\, Brandenburg\, 14469\, Potsdam\, Deutschland;X-APPLE-RADIUS=100;X-TIT
 LE=Dorfkirche Nattwerder:geo:52.424493,12.940278
END:VEVENT
BEGIN:VTIMEZONE
TZID:Europe/Berlin
X-LIC-LOCATION:Europe/Berlin
BEGIN:DAYLIGHT
DTSTART:20240331T030000
TZOFFSETFROM:+0100
TZOFFSETTO:+0200
TZNAME:CEST
END:DAYLIGHT
END:VTIMEZONE
END:VCALENDAR