BEGIN:VCALENDAR
VERSION:2.0
PRODID:-//wp-events-plugin.com//7.0.5//EN
TZID:Europe/Berlin
X-WR-TIMEZONE:Europe/Berlin
BEGIN:VEVENT
UID:11@davidsick.de
DTSTART;TZID=Europe/Berlin:20240707T163000
DTEND;TZID=Europe/Berlin:20240707T180000
DTSTAMP:20230911T134209Z
URL:https://davidsick.de/konzerte/kirche-saxdorf/
SUMMARY:Kirche\, Saxdorf
DESCRIPTION:
CATEGORIES:oneperson
LOCATION:Kirche Saxdorf\, Hauptstrasse 5\, Uebigau-Wahrenbrück\, 04895 \, 
 Deutschland
GEO:51.501822;13.284835
X-APPLE-STRUCTURED-LOCATION;VALUE=URI;X-ADDRESS=Hauptstrasse 5\, Uebigau-Wa
 hrenbrück\, 04895 \, Deutschland;X-APPLE-RADIUS=100;X-TITLE=Kirche Saxdor
 f:geo:51.501822,13.284835
END:VEVENT
BEGIN:VTIMEZONE
TZID:Europe/Berlin
X-LIC-LOCATION:Europe/Berlin
BEGIN:DAYLIGHT
DTSTART:20240331T030000
TZOFFSETFROM:+0100
TZOFFSETTO:+0200
TZNAME:CEST
END:DAYLIGHT
END:VTIMEZONE
END:VCALENDAR